BEGIN:VCALENDAR
VERSION:2.0
PRODID:-//Limitless Coaching - ECPv6.15.13.1//NONSGML v1.0//EN
CALSCALE:GREGORIAN
METHOD:PUBLISH
X-ORIGINAL-URL:https://limitlesscoaching.ca
X-WR-CALDESC:Events for Limitless Coaching
REFRESH-INTERVAL;VALUE=DURATION:PT1H
X-Robots-Tag:noindex
X-PUBLISHED-TTL:PT1H
BEGIN:VTIMEZONE
TZID:America/Toronto
BEGIN:DAYLIGHT
TZOFFSETFROM:-0500
TZOFFSETTO:-0400
TZNAME:EDT
DTSTART:20190310T070000
END:DAYLIGHT
BEGIN:STANDARD
TZOFFSETFROM:-0400
TZOFFSETTO:-0500
TZNAME:EST
DTSTART:20191103T060000
END:STANDARD
BEGIN:DAYLIGHT
TZOFFSETFROM:-0500
TZOFFSETTO:-0400
TZNAME:EDT
DTSTART:20200308T070000
END:DAYLIGHT
BEGIN:STANDARD
TZOFFSETFROM:-0400
TZOFFSETTO:-0500
TZNAME:EST
DTSTART:20201101T060000
END:STANDARD
BEGIN:DAYLIGHT
TZOFFSETFROM:-0500
TZOFFSETTO:-0400
TZNAME:EDT
DTSTART:20210314T070000
END:DAYLIGHT
BEGIN:STANDARD
TZOFFSETFROM:-0400
TZOFFSETTO:-0500
TZNAME:EST
DTSTART:20211107T060000
END:STANDARD
BEGIN:DAYLIGHT
TZOFFSETFROM:-0500
TZOFFSETTO:-0400
TZNAME:EDT
DTSTART:20220313T070000
END:DAYLIGHT
BEGIN:STANDARD
TZOFFSETFROM:-0400
TZOFFSETTO:-0500
TZNAME:EST
DTSTART:20221106T060000
END:STANDARD
BEGIN:DAYLIGHT
TZOFFSETFROM:-0500
TZOFFSETTO:-0400
TZNAME:EDT
DTSTART:20230312T070000
END:DAYLIGHT
BEGIN:STANDARD
TZOFFSETFROM:-0400
TZOFFSETTO:-0500
TZNAME:EST
DTSTART:20231105T060000
END:STANDARD
END:VTIMEZONE
BEGIN:VTIMEZONE
TZID:UTC
BEGIN:STANDARD
TZOFFSETFROM:+0000
TZOFFSETTO:+0000
TZNAME:UTC
DTSTART:20170101T000000
END:STANDARD
END:VTIMEZONE
BEGIN:VEVENT
DTSTART;VALUE=DATE:20220213
DTEND;VALUE=DATE:20220226
DTSTAMP:20260424T133057
CREATED:20211104T185552Z
LAST-MODIFIED:20211104T185552Z
UID:27932-1644710400-1645833599@limitlesscoaching.ca
SUMMARY:Florida Training Camp
DESCRIPTION:It’s BACK!  The PKPC / Limitless Clermont Florida Training Camp is scheduled for February 2022. \nWe are offering TWO separate weeks geared to two different groups of athletes. \nWeek One: February 13-18th:  The Intermediate Athlete \n​(26 – 30kph average speed over a rolling terrain endurance ride) \nThis camp is geared towards the intermediate athlete that is looking to get some early season outdoor training. This week is all about you\, so you can focus on a higher training volume and enjoy your recovery. Train and recover like a pro! We keep the coach to athlete ratio low (4 athletes to 1 coach) so you will get plenty of feedback on technique and skills.  We will be providing all meals at the house so you can focus on training and recovery.  Meals out are at the athletes’ expense.  We will be including 2 bottles of wine + a 6 pack of beer for those so inclined. \n​ \nWeek Two:  February 20th to 25th:  Fierce Females​ \n(21-24 kph average speed over a rolling terrain long ride).  \nThis camp is geared towards the female triathlete that is either just starting out in triathlon or tends to be a middle to back of the pack athlete.  The goal of this camp is to provide a fun\, inclusive environment for women that have always wanted to go to a triathlon camp but were too intimidated. \nWe will be providing all meals at the house so you can focus on training and recovery.  Meals out are at the athletes’ expense.  We will be including 2 bottles of wine + a 6 pack of beer for those so inclined. \n​Cost includes ONE airport pick up and drop off.  We base the pick up / drop off on when the majority of people are arriving and departing. \nCOST (does not include HST or travel) \nDouble Occupancy (Single Beds) \nPKPC / LIMITLESS athlete:  $1600 \nBETTER TOGETHER / TTC ATHLETE: $1700 \nNON PKPC / LIMITLESS athlete:  $1800 \n​Single Occupancy (Queen Bed no ensuite)  \nPKPC / LIMITLESS athlete:  $1700 \nBETTER TOGETHER / TTC ATHLETE: $1800 \nNON PKPC / LIMITLESS athlete:  $1900 \nSingle Occupancy (Queen Bed with ensuite) (sold out) \nPKPC / LIMITLESS athlete:  $1750 \nBETTER TOGETHER / TTC ATHLETE: $1850 \nNON PKPC / LIMITLESS athlete:  $1950 \nREFUND POLICY:​ \n100% refund before 12/01/2021 \n50% refund before 12/31/2021 \nNo refund after 01/01/2022 \nTo sign up click here! \nClick here for a sample schedule of what you can expect at the Florida camp. \nShare this:TwitterFacebook
URL:https://limitlesscoaching.ca/event/florida-training-camp/
LOCATION:Clermont Florida
CATEGORIES:Camp,cycling,running,swimming,training
ATTACH;FMTTYPE=image/jpeg:https://limitlesscoaching.ca/wp-content/uploads/iUQg4GWSTLmyQ2rf4ycTeQ-scaled.jpg
END:VEVENT
BEGIN:VEVENT
DTSTART;TZID=America/Toronto:20210414T090000
DTEND;TZID=America/Toronto:20210418T000000
DTSTAMP:20260424T133057
CREATED:20210302T173229Z
LAST-MODIFIED:20210314T181927Z
UID:18145-1618390800-1618704000@limitlesscoaching.ca
SUMMARY:Virtual Tri Camp
DESCRIPTION:Just because we can’t make it to the south for training camp\, doesn’t mean we can’t bring the fun of camp to you! \nJoin Coaches PK and Eric for 5-days in April\, of fun while riding\, running\, strengthening and learning your way to a better season of training and racing! \nWhen: April 14 – 18th (9am – 1pm-ish) \nWhere: Your home/virtual/Zwift/Zoom \nWhat are you going to be doing for 5 days: \n5 days of Zwift cycling and workouts (1.5-2 hours each day\, with a ride up Ven-top on Sunday) \n4 days of structured run workouts and drill work (10-60 minutes) \n5 days of strength\, core\, mobility and swim dryland work (10-40 minutes) \n5 days of “Coffee Chats” – (45-60 minutes) learn about endurance training\, nutrition\, racing and more \nCost: \nEARLY BIRD – $150 (March 11-21) \nREGULAR – $200 (March 11- April 13) ($25 discount for PKPC\, Limitless and TTC athletes)** \nWEEKEND ONLY (Friday-Sunday) – $100 \nAll strength-based workout\, running drills and talks will be recorded. If you can’t make a day or workout\,  you can watch later. Zwift rides and workouts will be listed in Training Peaks. \nWhat you’ll need: \n\nZwift and Training Peaks account (TP is free for the basic account)\nZwift compatible Trainer\nA computer or phone to follow along\nBike\nRunning shoes\nSwim tubing or resistance bands\nMini bands\n2 Dumbbells\nDowel/broom handle\nlacrosse/tennis ball\n\nSCHEDULE: \nWED –  \n\n9AM – Dryland (20-30 minutes)\n9:30 – ZWIFT FIGURE 8 – 30K (238M) 75 minute structured social ride\n30 rotb\nSocial / info session\n\nThursday –  \n\n9am – Fan Flats (5k- 16m) -90 minutes –  Sprint work each loop with zone 2 as “recovery”\nstrength\nCoffee chit chat\n\nFriday –  \n\n9am – OUT AND BACK AGAIN – 43K (303M) – sustained efforts 1:45\nROTB\nMobility\nSocial / info session\n\nSaturday  \n\n8 am – Swim dryland (20-30 minutes)\n8:30 am:  Recovery Ride – 60 minutes \n45 minute Run off the bike \n\nSunday –  \n\n8:00 am – Ven-Top – (21k – 1534m)  keep group together (2-3 hours)\nMobility\nSocial / info session/ wrap up\n\n***We do require a minimum of 7 people to run the program*** \n**Please email eric@limitlesscoaching.ca or pkperformancecoaching@gmail.com for discount codes and all information regarding camp. \nShare this:TwitterFacebook
URL:https://limitlesscoaching.ca/event/virtual-tri-camp/
LOCATION:Virtual
CATEGORIES:Camp,cycling,running,swimming,training,Virtual
ATTACH;FMTTYPE=image/png:https://limitlesscoaching.ca/wp-content/uploads/1.png
END:VEVENT
BEGIN:VEVENT
DTSTART;TZID=America/Toronto:20201110T090000
DTEND;TZID=America/Toronto:20201110T100000
DTSTAMP:20260424T133057
CREATED:20201116T200457Z
LAST-MODIFIED:20201127T171329Z
UID:13903-1604998800-1605002400@limitlesscoaching.ca
SUMMARY:Limitless Run Club - Tuesday Speed Session ***ON HOLD****
DESCRIPTION:***ON HOLD****\n  \nJoin Coach Becky on Tuesday mornings at Lake Aquitaine \n\nSession dates:\n\nNovember 10\, 17\, 24 December 1\, 8\, 15\n\n\nMeet behind Meadowvale Community Centre (6655 Glen Erin Drive)\n$60 for 6 sessions or $15 drop in fee\nSpeed with others\, makes it easier to “suffer” together.\n\nSign up \nShare this:TwitterFacebook
URL:https://limitlesscoaching.ca/event/limitless-run-club-tuesday-speed-session/
LOCATION:Lake Aquitaine\, 6655 Glen Erin Drive (behind Meadowvale CC)\, Mississauga\, Ontario\, Canada
CATEGORIES:running,training
ATTACH;FMTTYPE=image/jpeg:https://limitlesscoaching.ca/wp-content/uploads/IMG_5376-scaled.jpeg
END:VEVENT
BEGIN:VEVENT
DTSTART;VALUE=DATE:20200202
DTEND;VALUE=DATE:20200209
DTSTAMP:20260424T133057
CREATED:20190926T164556Z
LAST-MODIFIED:20190926T164647Z
UID:500-1580601600-1581206399@limitlesscoaching.ca
SUMMARY:Fierce Females Florida Camp
DESCRIPTION:  \n \nFebruary 2 to 8th – Fierce Females (Beginner) (22-25 kph average speed over a long ride).  \nThis camp is geared towards the female triathlete that is either just starting out in triathlon or tends to be a middle to back of the pack athlete.  The goal of this camp is to provide a fun\, safe environment for women that have always wanted to go to a triathlon camp but were too intimidated.   \nWe keep the coach to athlete ratio low (4 athletes to 1 coach) so you will get plenty of feedback on technique and skills.   \nWe will be providing all meals at the house so you can focus on training and recovery.  Meals out are at the athletes’ expense. \nShare this:TwitterFacebook
URL:https://limitlesscoaching.ca/event/fierce-females-florida-camp/
LOCATION:Clermont Florida
CATEGORIES:cycling,running,swimming,training
ORGANIZER;CN="Eric D'Arcy":MAILTO:eric@limitlesscoaching.ca
END:VEVENT
BEGIN:VEVENT
DTSTART;TZID=UTC:20180121T090000
DTEND;TZID=UTC:20180121T143000
DTSTAMP:20260424T133057
CREATED:20171221T224326Z
LAST-MODIFIED:20171221T230355Z
UID:388-1516525200-1516545000@limitlesscoaching.ca
SUMMARY:A Limitless Training Day
DESCRIPTION:  \n  \n  \n  \n  \n  \n  \nJoin us Sunday January 21st at Dig Deep Cycling and Fitness for a day filled with swim\, bike and run. We start with a 2.5 hour ride on Wahoo Kickr power trainers\, followed up with a 30 to 45 minute run and finish the day with a 1 hour coached swim session (2 coaches on deck) offering verbal and video feedback on your stroke.  This is a great opportunity to train with like-minded athletes in a small group setting (8 people max)\, get feedback and have fun! \nBike at Dig Deep – 9:00 – 11:30 \nRun from Dig Deep – 11:30 – 12:15 \nSwim at Downsview S.S. (Keele/401)\, on deck and ready to go from 1:00 – 2:15. \n  \nThere will be sports nutrition from Xact Nutrition\, and electrolytes available for you. \nCost is $85/person + HST \nSpace is limited\, so sign up quickly. \nShare this:TwitterFacebook
URL:https://limitlesscoaching.ca/event/midtown-big-training-day/
LOCATION:Dig Deep Cycling\, Yonge/Golfdale\, Toronto\, Canada
CATEGORIES:cycling,running,swimming,training
END:VEVENT
END:VCALENDAR