BEGIN:VCALENDAR
VERSION:2.0
PRODID:-//Limitless Coaching - ECPv6.15.13.1//NONSGML v1.0//EN
CALSCALE:GREGORIAN
METHOD:PUBLISH
X-ORIGINAL-URL:https://limitlesscoaching.ca
X-WR-CALDESC:Events for Limitless Coaching
REFRESH-INTERVAL;VALUE=DURATION:PT1H
X-Robots-Tag:noindex
X-PUBLISHED-TTL:PT1H
BEGIN:VTIMEZONE
TZID:America/Toronto
BEGIN:DAYLIGHT
TZOFFSETFROM:-0500
TZOFFSETTO:-0400
TZNAME:EDT
DTSTART:20190310T070000
END:DAYLIGHT
BEGIN:STANDARD
TZOFFSETFROM:-0400
TZOFFSETTO:-0500
TZNAME:EST
DTSTART:20191103T060000
END:STANDARD
BEGIN:DAYLIGHT
TZOFFSETFROM:-0500
TZOFFSETTO:-0400
TZNAME:EDT
DTSTART:20200308T070000
END:DAYLIGHT
BEGIN:STANDARD
TZOFFSETFROM:-0400
TZOFFSETTO:-0500
TZNAME:EST
DTSTART:20201101T060000
END:STANDARD
BEGIN:DAYLIGHT
TZOFFSETFROM:-0500
TZOFFSETTO:-0400
TZNAME:EDT
DTSTART:20210314T070000
END:DAYLIGHT
BEGIN:STANDARD
TZOFFSETFROM:-0400
TZOFFSETTO:-0500
TZNAME:EST
DTSTART:20211107T060000
END:STANDARD
BEGIN:DAYLIGHT
TZOFFSETFROM:-0500
TZOFFSETTO:-0400
TZNAME:EDT
DTSTART:20220313T070000
END:DAYLIGHT
BEGIN:STANDARD
TZOFFSETFROM:-0400
TZOFFSETTO:-0500
TZNAME:EST
DTSTART:20221106T060000
END:STANDARD
END:VTIMEZONE
BEGIN:VEVENT
DTSTART;TZID=America/Toronto:20210101T090000
DTEND;TZID=America/Toronto:20210101T120000
DTSTAMP:20260424T141223
CREATED:20201127T174603Z
LAST-MODIFIED:20201127T174709Z
UID:14382-1609491600-1609502400@limitlesscoaching.ca
SUMMARY:FRUITCAKE FIVE ZWIFT CYCLING CHALLENGE - DAY 5
DESCRIPTION:  \nCome and join Coaches Phaedra from PK Performance Coaching and Eric from Limitless Coaching\, for 5 days of fun\, structured coach-led workouts on Zwift. \nThe Fruitcake Five start December 28th and wraps up on January 1st! \nJOIN US AND FINISH OFF THE YEAR WITH A BANG! \nTwo categories to choose from: \n\nLevel One: Sugar Plum Crazy (Rides ranging from 45 minutes to 2 hour)\nLevel Two: Nutty Fruitcake (Rides ranging from 1 up to 3 hour)\n\nDetails: \n\n5 coach-led rides on Zwift with feedback and motivation via Zoom or Discord (platform will be confirmed closer to event. Both are free services to participants) with Coaches Eric and Phaedra.\n\n\nAll riders will receive a swag bag mailed out\, which will include:\n\nA Fruitcake Five Festive Tuber’z Wrap (keep yourself warm and stylish with a multi-functional wrap – scarf\, headband\, neck warmer – is there nothing this can’t do ) *** LIMITED TO THE FIRST 50 RIDERS THAT SIGN UP***\nAn artisanal crafted shave bar from Sue’s Soap Creations (because every rider deserves smooth legs)\nA 9ml (single use) of Chamois Butt’r (trust us\, you’ll be wanting this during this challenge).\n\n\n\n\nRandom Daily prizes as well as Grand prizes – Just show up and ride for a chance to win. You don’t have to be the fastest\, fittest or strongest\, you just have to show up!\nRides will start at 6pm (EST) SHARP every night\, except the New Year’s Day ride which will start at 9am (EST) (Don’t complain\, you know you won’t be out with friends\, and even if you were\, they’ll be doing this ride with you\, so everyone suffers together!)\n\n\nDon’t forget to tag us! #FruitcakeFive #limitlesscoaching #pkpc \nPlease note there are no refunds for this event. \nAny questions about training\, coaching or just in general about this event\, please contact us: \nPhaedra – pkperformancecoaching@gmail.com \nEric – eric@limitlesscoaching.ca \n\nShare this:TwitterFacebook
URL:https://limitlesscoaching.ca/event/fruitcake-five-zwift-cycling-challenge-day-5/
LOCATION:ZWIFT
CATEGORIES:Challenge,cycling,training
ORGANIZER;CN="Eric D'Arcy":MAILTO:eric@limitlesscoaching.ca
END:VEVENT
BEGIN:VEVENT
DTSTART;TZID=America/Toronto:20201231T180000
DTEND;TZID=America/Toronto:20201231T193000
DTSTAMP:20260424T141223
CREATED:20201127T174320Z
LAST-MODIFIED:20201127T174320Z
UID:14380-1609437600-1609443000@limitlesscoaching.ca
SUMMARY:FRUITCAKE FIVE ZWIFT CYCLING CHALLENGE - DAY 4
DESCRIPTION:  \nCome and join Coaches Phaedra from PK Performance Coaching and Eric from Limitless Coaching\, for 5 days of fun\, structured coach-led workouts on Zwift. \nThe Fruitcake Five start December 28th and wraps up on January 1st! \nJOIN US AND FINISH OFF THE YEAR WITH A BANG! \nTwo categories to choose from: \n\nLevel One: Sugar Plum Crazy (Rides ranging from 45 minutes to 2 hour)\nLevel Two: Nutty Fruitcake (Rides ranging from 1 up to 3 hour)\n\nDetails: \n\n5 coach-led rides on Zwift with feedback and motivation via Zoom or Discord (platform will be confirmed closer to event. Both are free services to participants) with Coaches Eric and Phaedra.\n\n\nAll riders will receive a swag bag mailed out\, which will include:\n\nA Fruitcake Five Festive Tuber’z Wrap (keep yourself warm and stylish with a multi-functional wrap – scarf\, headband\, neck warmer – is there nothing this can’t do ) *** LIMITED TO THE FIRST 50 RIDERS THAT SIGN UP***\nAn artisanal crafted shave bar from Sue’s Soap Creations (because every rider deserves smooth legs)\nA 9ml (single use) of Chamois Butt’r (trust us\, you’ll be wanting this during this challenge).\n\n\n\n\nRandom Daily prizes as well as Grand prizes – Just show up and ride for a chance to win. You don’t have to be the fastest\, fittest or strongest\, you just have to show up!\nRides will start at 6pm (EST) SHARP every night\, except the New Year’s Day ride which will start at 9am (EST) (Don’t complain\, you know you won’t be out with friends\, and even if you were\, they’ll be doing this ride with you\, so everyone suffers together!)\n\n\nDon’t forget to tag us! #FruitcakeFive #limitlesscoaching #pkpc \nPlease note there are no refunds for this event. \nAny questions about training\, coaching or just in general about this event\, please contact us: \nPhaedra – pkperformancecoaching@gmail.com \nEric – eric@limitlesscoaching.ca \n\nShare this:TwitterFacebook
URL:https://limitlesscoaching.ca/event/fruitcake-five-zwift-cycling-challenge-day-4/
LOCATION:ZWIFT
CATEGORIES:Challenge,cycling,training
ORGANIZER;CN="Eric D'Arcy":MAILTO:eric@limitlesscoaching.ca
END:VEVENT
BEGIN:VEVENT
DTSTART;TZID=America/Toronto:20201230T180000
DTEND;TZID=America/Toronto:20201230T193000
DTSTAMP:20260424T141223
CREATED:20201127T174016Z
LAST-MODIFIED:20201127T174037Z
UID:14377-1609351200-1609356600@limitlesscoaching.ca
SUMMARY:FRUITCAKE FIVE ZWIFT CYCLING CHALLENGE - DAY 3
DESCRIPTION:Come and join Coaches Phaedra from PK Performance Coaching and Eric from Limitless Coaching\, for 5 days of fun\, structured coach-led workouts on Zwift. \nThe Fruitcake Five start December 28th and wraps up on January 1st! \nJOIN US AND FINISH OFF THE YEAR WITH A BANG! \nTwo categories to choose from: \n\nLevel One: Sugar Plum Crazy (Rides ranging from 45 minutes to 2 hour)\nLevel Two: Nutty Fruitcake (Rides ranging from 1 up to 3 hour)\n\nDetails: \n\n5 coach-led rides on Zwift with feedback and motivation via Zoom or Discord (platform will be confirmed closer to event. Both are free services to participants) with Coaches Eric and Phaedra.\n\n\nAll riders will receive a swag bag mailed out\, which will include:\n\nA Fruitcake Five Festive Tuber’z Wrap (keep yourself warm and stylish with a multi-functional wrap – scarf\, headband\, neck warmer – is there nothing this can’t do ) *** LIMITED TO THE FIRST 50 RIDERS THAT SIGN UP***\nAn artisanal crafted shave bar from Sue’s Soap Creations (because every rider deserves smooth legs)\nA 9ml (single use) of Chamois Butt’r (trust us\, you’ll be wanting this during this challenge).\n\n\n\n\nRandom Daily prizes as well as Grand prizes – Just show up and ride for a chance to win. You don’t have to be the fastest\, fittest or strongest\, you just have to show up!\nRides will start at 6pm (EST) SHARP every night\, except the New Year’s Day ride which will start at 9am (EST) (Don’t complain\, you know you won’t be out with friends\, and even if you were\, they’ll be doing this ride with you\, so everyone suffers together!)\n\n\nDon’t forget to tag us! #FruitcakeFive #limitlesscoaching #pkpc \nPlease note there are no refunds for this event. \nAny questions about training\, coaching or just in general about this event\, please contact us: \nPhaedra – pkperformancecoaching@gmail.com \nEric – eric@limitlesscoaching.ca \n\nShare this:TwitterFacebook
URL:https://limitlesscoaching.ca/event/fruitcake-five-zwift-cycling-challenge-day-3/
LOCATION:ZWIFT
CATEGORIES:Challenge,cycling,training
ORGANIZER;CN="Eric D'Arcy":MAILTO:eric@limitlesscoaching.ca
END:VEVENT
BEGIN:VEVENT
DTSTART;TZID=America/Toronto:20201229T180000
DTEND;TZID=America/Toronto:20201229T193000
DTSTAMP:20260424T141223
CREATED:20201127T173644Z
LAST-MODIFIED:20201127T173644Z
UID:14374-1609264800-1609270200@limitlesscoaching.ca
SUMMARY:FRUITCAKE FIVE CYCLING CHALLENGE - DAY 2
DESCRIPTION:THE FRUITCAKE FIVE CYCLING CHALLENGE \n5 DAYS. 5 RIDES. ONE EPIC CHALLENGE TO FINISH OFF THE YEAR. \nCome and join Coaches Phaedra from PK Performance Coaching and Eric from Limitless Coaching\, for 5 days of fun\, structured coach-led workouts on Zwift. \nThe Fruitcake Five start December 28th and wraps up on January 1st! \nJOIN US AND FINISH OFF THE YEAR WITH A BANG! \nTwo categories to choose from: \n\nLevel One: Sugar Plum Crazy (Rides ranging from 45 minutes to 2 hour)\nLevel Two: Nutty Fruitcake (Rides ranging from 1 up to 3 hour)\n\nDetails: \n\n5 coach-led rides on Zwift with feedback and motivation via Zoom or Discord (platform will be confirmed closer to event. Both are free services to participants) with Coaches Eric and Phaedra.\n\n\nAll riders will receive a swag bag mailed out\, which will include:\n\nA Fruitcake Five Festive Tuber’z Wrap (keep yourself warm and stylish with a multi-functional wrap – scarf\, headband\, neck warmer – is there nothing this can’t do ) *** LIMITED TO THE FIRST 50 RIDERS THAT SIGN UP***\nAn artisanal crafted shave bar from Sue’s Soap Creations (because every rider deserves smooth legs)\nA 9ml (single use) of Chamois Butt’r (trust us\, you’ll be wanting this during this challenge).\n\n\n\n\nRandom Daily prizes as well as Grand prizes – Just show up and ride for a chance to win. You don’t have to be the fastest\, fittest or strongest\, you just have to show up!\nRides will start at 6pm (EST) SHARP every night\, except the New Year’s Day ride which will start at 9am (EST) (Don’t complain\, you know you won’t be out with friends\, and even if you were\, they’ll be doing this ride with you\, so everyone suffers together!)\n\n\nDon’t forget to tag us! #FruitcakeFive #limitlesscoaching #pkpc \nPlease note there are no refunds for this event. \nAny questions about training\, coaching or just in general about this event\, please contact us: \nPhaedra – pkperformancecoaching@gmail.com \nEric – eric@limitlesscoaching.ca \n\nShare this:TwitterFacebook
URL:https://limitlesscoaching.ca/event/fruitcake-five-cycling-challenge-day-2/
LOCATION:ZWIFT
CATEGORIES:Challenge,cycling
ORGANIZER;CN="Eric D'Arcy":MAILTO:eric@limitlesscoaching.ca
END:VEVENT
BEGIN:VEVENT
DTSTART;TZID=America/Toronto:20201228T180000
DTEND;TZID=America/Toronto:20201228T193000
DTSTAMP:20260424T141223
CREATED:20201127T172529Z
LAST-MODIFIED:20201127T175015Z
UID:14366-1609178400-1609183800@limitlesscoaching.ca
SUMMARY:FRUITCAKE FIVE ZWIFT CYCLING CHALLENGE - DAY 1
DESCRIPTION:Come and join Coaches Phaedra from PK Performance Coaching and Eric from Limitless Coaching\, for 5 days of fun\, structured coach-led workouts on Zwift. \nThe Fruitcake Five start December 28th and wraps up on January 1st! \nJOIN US AND FINISH OFF THE YEAR WITH A BANG! \nTwo categories to choose from: \n\nLevel One: Sugar Plum Crazy (Rides ranging from 45 minutes to 2 hour)\nLevel Two: Nutty Fruitcake (Rides ranging from 1 up to 3 hour)\n\nDetails: \n\n5 coach-led rides on Zwift with feedback and motivation via Zoom or Discord (platform will be confirmed closer to event. Both are free services to participants) with Coaches Eric and Phaedra.\n\n\nAll riders will receive a swag bag mailed out\, which will include:\n\nA Fruitcake Five Festive Tuber’z Wrap (keep yourself warm and stylish with a multi-functional wrap – scarf\, headband\, neck warmer – is there nothing this can’t do ) *** LIMITED TO THE FIRST 50 RIDERS THAT SIGN UP***\nAn artisanal crafted shave bar from Sue’s Soap Creations (because every rider deserves smooth legs)\nA 9ml (single use) of Chamois Butt’r (trust us\, you’ll be wanting this during this challenge).\n\n\n\n\nRandom Daily prizes as well as Grand prizes – Just show up and ride for a chance to win. You don’t have to be the fastest\, fittest or strongest\, you just have to show up!\nRides will start at 6pm (EST) SHARP every night\, except the New Year’s Day ride which will start at 9am (EST) (Don’t complain\, you know you won’t be out with friends\, and even if you were\, they’ll be doing this ride with you\, so everyone suffers together!)\n\n\nDon’t forget to tag us! #FruitcakeFive #limitlesscoaching #pkpc \nPlease note there are no refunds for this event. \nAny questions about training\, coaching or just in general about this event\, please contact us: \nPhaedra – pkperformancecoaching@gmail.com \nEric – eric@limitlesscoaching.ca \n\nShare this:TwitterFacebook
URL:https://limitlesscoaching.ca/event/fruitcake-five-cycling-challenge/
LOCATION:ZWIFT
CATEGORIES:Challenge,cycling
END:VEVENT
END:VCALENDAR